BEGIN:VCALENDAR
VERSION:2.0
PRODID:-//Konservatorium C. Monteverdi - ECPv6.15.20//NONSGML v1.0//EN
CALSCALE:GREGORIAN
METHOD:PUBLISH
X-ORIGINAL-URL:https://cons.bz.it/de/
X-WR-CALDESC:Veranstaltungen für Konservatorium C. Monteverdi
REFRESH-INTERVAL;VALUE=DURATION:PT1H
X-Robots-Tag:noindex
X-PUBLISHED-TTL:PT1H
BEGIN:VTIMEZONE
TZID:Europe/Rome
BEGIN:DAYLIGHT
TZOFFSETFROM:+0100
TZOFFSETTO:+0200
TZNAME:CEST
DTSTART:20190331T010000
END:DAYLIGHT
BEGIN:STANDARD
TZOFFSETFROM:+0200
TZOFFSETTO:+0100
TZNAME:CET
DTSTART:20191027T010000
END:STANDARD
BEGIN:DAYLIGHT
TZOFFSETFROM:+0100
TZOFFSETTO:+0200
TZNAME:CEST
DTSTART:20200329T010000
END:DAYLIGHT
BEGIN:STANDARD
TZOFFSETFROM:+0200
TZOFFSETTO:+0100
TZNAME:CET
DTSTART:20201025T010000
END:STANDARD
BEGIN:DAYLIGHT
TZOFFSETFROM:+0100
TZOFFSETTO:+0200
TZNAME:CEST
DTSTART:20210328T010000
END:DAYLIGHT
BEGIN:STANDARD
TZOFFSETFROM:+0200
TZOFFSETTO:+0100
TZNAME:CET
DTSTART:20211031T010000
END:STANDARD
END:VTIMEZONE
BEGIN:VEVENT
DTSTART;TZID=Europe/Rome:20200306T200000
DTEND;TZID=Europe/Rome:20200317T220000
DTSTAMP:20260425T233942
CREATED:20201224T132436Z
LAST-MODIFIED:20210310T195643Z
UID:7450-1583524800-1584482400@cons.bz.it
SUMMARY:Euregio in concert
DESCRIPTION:
URL:https://cons.bz.it/de/event/euregio-in-concert/
ATTACH;FMTTYPE=image/jpeg:https://cons.bz.it/wp-content/uploads/2019/02/20200306.jpg
END:VEVENT
END:VCALENDAR