BEGIN:VCALENDAR
VERSION:2.0
PRODID:-//Konservatorium C. Monteverdi - ECPv6.15.20//NONSGML v1.0//EN
CALSCALE:GREGORIAN
METHOD:PUBLISH
X-ORIGINAL-URL:https://cons.bz.it/de/
X-WR-CALDESC:Veranstaltungen für Konservatorium C. Monteverdi
REFRESH-INTERVAL;VALUE=DURATION:PT1H
X-Robots-Tag:noindex
X-PUBLISHED-TTL:PT1H
BEGIN:VTIMEZONE
TZID:Europe/Rome
BEGIN:DAYLIGHT
TZOFFSETFROM:+0100
TZOFFSETTO:+0200
TZNAME:CEST
DTSTART:20200329T010000
END:DAYLIGHT
BEGIN:STANDARD
TZOFFSETFROM:+0200
TZOFFSETTO:+0100
TZNAME:CET
DTSTART:20201025T010000
END:STANDARD
BEGIN:DAYLIGHT
TZOFFSETFROM:+0100
TZOFFSETTO:+0200
TZNAME:CEST
DTSTART:20210328T010000
END:DAYLIGHT
BEGIN:STANDARD
TZOFFSETFROM:+0200
TZOFFSETTO:+0100
TZNAME:CET
DTSTART:20211031T010000
END:STANDARD
BEGIN:DAYLIGHT
TZOFFSETFROM:+0100
TZOFFSETTO:+0200
TZNAME:CEST
DTSTART:20220327T010000
END:DAYLIGHT
BEGIN:STANDARD
TZOFFSETFROM:+0200
TZOFFSETTO:+0100
TZNAME:CET
DTSTART:20221030T010000
END:STANDARD
END:VTIMEZONE
BEGIN:VEVENT
DTSTART;TZID=Europe/Rome:20210910T080000
DTEND;TZID=Europe/Rome:20210912T170000
DTSTAMP:20260424T180337
CREATED:20210519T143530Z
LAST-MODIFIED:20220330T071835Z
UID:16216-1631260800-1631466000@cons.bz.it
SUMMARY:International Competition Carlo Maria Giulini 2021
DESCRIPTION:String and String & Piano Chamber Music Ensemble\n\nInternationaler Wettbewerb für Solisten und Kammermusikensembles “Carlo Maria Giulini”\n\nDer Wettbewerb unterscheidet sich von anderen ähnlichen Wettbewerben dadurch\, dass er den Aspekten der akademischen Ausbildung besondere Aufmerksamkeit widmet: Ziel ist es\, junge Talente aus der ganzen Welt zusammenzubringen. Die Gewinner erhalten zusätzlich zum Geldpreis Stipendien und Unterstützungen (Unterkunft und andere Vergünstigungen) für den Besuch unserer akademischen Kurse. Die Ausgabe vom Dezember 2020 wird Streichinstrumente (für Kammermusikensembles auch Streicher und Klavier vom Duo bis zum Quintett) umfassen\, jene von 2021 Blasinstrumente − immer in den Kategorien Solist und Kammermusikensembles. \nAUSGABE 2020 (für Streichinstrumente):\nSolisten und Kammermusikgruppen für Streicher und Klavier. \nSITZ: Musikkonservatorium Claudio Monteverdi\, Bozen\, Michelangeli Saal \nKATEGORIE SOLISTEN: Es ist ein einziger Wettbewerb für Violine\, Bratsche\, Violoncello und Kontrabass vorgesehen: Jeder Kommission sitzt der Direktor des Konservatoriums oder eine von ihm beauftragte Person vor. Sie setzt sich aus insgesamt 5 internationalen Experten im Bereich zusammen. \nEs ist einen erster und einen zweiten Preis für die beiden Kategorien vorgesehen sowie Preise für den besten europäischen und den besten außereuropäischen Wettbewerber\, für den jüngsten Wettbewerber und andere noch zu etablierende Preise. \nKATEGORIE KAMMERMUSIKGRUPPEN: Es ist ein einziger Wettbewerb für Violine\, Bratsche\, Violoncello und Kontrabass vorgesehen: Jeder Kommission sitzt der Direktor des Konservatoriums oder eine von ihm beauftragte Person vor. Sie setzt sich aus insgesamt 5 internationalen Experten im Bereich zusammen. \nPREISE\n Kategorie Solisten: 3.500 € Euro (Wettbewerbsgewinner); 1.500 € (Zweitklassifizierter); \n\nKategorie Kammermusikgruppen: 5.000 € (Siegergruppe des Studienstipendiums aus dem dem Konservatorium zur Verfügung gestellten Nachlass von Maestro Carlo Maria Giulini)\, 2.500 € Zweitklassifizierte).\nPreis “Stadt Bozen” für den besten Solisten 1.500 € (von der Stadt Bozen zur Verfügung gestellt).\nFür den Preis in der Kategorie Solisten sind außerdem drei Solo−Konzerte im Jahr 2021 (als Duo oder mit Begleitung der Monteverdi−Akademie) im Michelangeli Saal des Konservatoriums und in anderen\, noch festzulegenden Örtlickeiten innerhalb der Provinz Bozen vorgesehen. Gleichfalls sind für die Kategorie Kammermusikgruooen drei Konzerte vorgesehen. Diese Konzerte werden mit weiteren Studienstipendien vergütet.\nBefreiung von den Immatrikulationsgebühren der Akademischen Kurse im Jahr 2021−2022.\n\nEINSCHREIBEFRIST: frist abgelaufen\n \ninternational.relations@cons.bz.it zu erfolgen. \nDOWNLOAD OFFIZIELLE WETTBEWERBSBESTIMMUNGEN\nWettbewerb \nEinschreibeformular
URL:https://cons.bz.it/de/event/international-competition-carlo-maria-giulini-2021/
ATTACH;FMTTYPE=image/jpeg:https://cons.bz.it/wp-content/uploads/2020/12/20201217-1.jpg
END:VEVENT
END:VCALENDAR