BEGIN:VCALENDAR
VERSION:2.0
PRODID:-//Konservatorium C. Monteverdi - ECPv6.15.20//NONSGML v1.0//EN
CALSCALE:GREGORIAN
METHOD:PUBLISH
X-ORIGINAL-URL:https://cons.bz.it/de/
X-WR-CALDESC:Veranstaltungen für Konservatorium C. Monteverdi
REFRESH-INTERVAL;VALUE=DURATION:PT1H
X-Robots-Tag:noindex
X-PUBLISHED-TTL:PT1H
BEGIN:VTIMEZONE
TZID:Europe/Rome
BEGIN:DAYLIGHT
TZOFFSETFROM:+0100
TZOFFSETTO:+0200
TZNAME:CEST
DTSTART:20200329T010000
END:DAYLIGHT
BEGIN:STANDARD
TZOFFSETFROM:+0200
TZOFFSETTO:+0100
TZNAME:CET
DTSTART:20201025T010000
END:STANDARD
BEGIN:DAYLIGHT
TZOFFSETFROM:+0100
TZOFFSETTO:+0200
TZNAME:CEST
DTSTART:20210328T010000
END:DAYLIGHT
BEGIN:STANDARD
TZOFFSETFROM:+0200
TZOFFSETTO:+0100
TZNAME:CET
DTSTART:20211031T010000
END:STANDARD
BEGIN:DAYLIGHT
TZOFFSETFROM:+0100
TZOFFSETTO:+0200
TZNAME:CEST
DTSTART:20220327T010000
END:DAYLIGHT
BEGIN:STANDARD
TZOFFSETFROM:+0200
TZOFFSETTO:+0100
TZNAME:CET
DTSTART:20221030T010000
END:STANDARD
END:VTIMEZONE
BEGIN:VEVENT
DTSTART;TZID=Europe/Rome:20211204T200000
DTEND;TZID=Europe/Rome:20211204T200000
DTSTAMP:20260424T125808
CREATED:20211201T090255Z
LAST-MODIFIED:20211201T090611Z
UID:19756-1638648000-1638648000@cons.bz.it
SUMMARY:Eröffnung des akademischen Jahres
DESCRIPTION:ERÖFFNUNGSKONZERT DES AKADEMISCHEN JAHRES\nSamstag 04.12.2021 20:00 Uhr \nViolinkonzert in D-Dur op. 77\nSolo-Violine: Teofil Milenkovic\nSymphonie Nr. 4 in e-Moll op. 98\nJohannes Brahms (1833-1897) ist einer der bedeutendsten Komponisten der Romantik. Sein Name ist mit zahlreichen Werken verbunden\, die einen wesentlichen Meilenstein des kammermusikalischen und sinfonischen Musikprogramms darstellen. Allerdings ist seine Musik in Bezug auf Inhalt und Aufführung keineswegs einfach und gerade deshalb sind seine Stücke eine wichtige Herausforderung für jeden Musiker.\nHauptsächlich in Wien tätig – der Stadt\, in der er starb – spielt Brahms eine bedeutende Rolle in der deutschen Kritik und ästhetischen Philosophie.\nEduard Hanslick sprach von ihm und Wagner als zwei gegensätzlichen Entitäten\, in denen das Schicksal der Musik zu lesen sei. Für den Wiener Kritiker aber hatte der Hamburger Komponist mit seinem Schaffen wie kein anderer die Voraussetzungen der Musik verändert und die aktuelle Sprache in die Sphäre der „absoluten Musik“ gezogen\, was seinem „Konkurrenten“ nicht gelungen war.\nAus diesem Grund ist das Konservatorium Claudio Monteverdi von Bozen stolz darauf\, seinen Zuhörern zwei Kompositionen zu präsentieren\, die die internationale Sinfonie- und Konzertszene in Bezug auf Intensität\, Komplexität und ästhetische Qualität verändert haben.\nGiacomo Fornari
URL:https://cons.bz.it/de/event/eroeffnung-des-akademischen-jahres/
LOCATION:Auditorium di Bolzano\, Via Dante\, 15\, Bolzano\, 39100\, Italia
ATTACH;FMTTYPE=image/jpeg:https://cons.bz.it/wp-content/uploads/2021/12/20211204-seite-1.jpg
END:VEVENT
END:VCALENDAR