BEGIN:VCALENDAR
VERSION:2.0
PRODID:-//Konservatorium C. Monteverdi - ECPv6.15.20//NONSGML v1.0//EN
CALSCALE:GREGORIAN
METHOD:PUBLISH
X-WR-CALNAME:Konservatorium C. Monteverdi
X-ORIGINAL-URL:https://cons.bz.it/de/
X-WR-CALDESC:Veranstaltungen für Konservatorium C. Monteverdi
REFRESH-INTERVAL;VALUE=DURATION:PT1H
X-Robots-Tag:noindex
X-PUBLISHED-TTL:PT1H
BEGIN:VTIMEZONE
TZID:Europe/Rome
BEGIN:DAYLIGHT
TZOFFSETFROM:+0100
TZOFFSETTO:+0200
TZNAME:CEST
DTSTART:20210328T010000
END:DAYLIGHT
BEGIN:STANDARD
TZOFFSETFROM:+0200
TZOFFSETTO:+0100
TZNAME:CET
DTSTART:20211031T010000
END:STANDARD
BEGIN:DAYLIGHT
TZOFFSETFROM:+0100
TZOFFSETTO:+0200
TZNAME:CEST
DTSTART:20220327T010000
END:DAYLIGHT
BEGIN:STANDARD
TZOFFSETFROM:+0200
TZOFFSETTO:+0100
TZNAME:CET
DTSTART:20221030T010000
END:STANDARD
BEGIN:DAYLIGHT
TZOFFSETFROM:+0100
TZOFFSETTO:+0200
TZNAME:CEST
DTSTART:20230326T010000
END:DAYLIGHT
BEGIN:STANDARD
TZOFFSETFROM:+0200
TZOFFSETTO:+0100
TZNAME:CET
DTSTART:20231029T010000
END:STANDARD
END:VTIMEZONE
BEGIN:VEVENT
DTSTART;VALUE=DATE:20220216
DTEND;VALUE=DATE:20220221
DTSTAMP:20260424T100856
CREATED:20220202T144450Z
LAST-MODIFIED:20220208T115041Z
UID:20133-1644969600-1645401599@cons.bz.it
SUMMARY:Erasmus+ Masterclass mit Alexander Gebert
DESCRIPTION:Vom 16. bis 20.02.2022 findet im Rahmen des Erasmus-Austauschprogramms eine Masterclass mit Alexander Gebert\, Professor für Cello an der Musikhochschule Detmold\, statt. \nAlexander Gebert wurde 1977 in Warschau in eine Musikerfamilie geboren\, die 1980 nach Finnland emigrierte. Mit fünf Jahren begann er sein Cellostudium am Konservatorium in Turku. 1989 wurde er an die Sibelius-Akademie in Helsinki aufgenommen\, zwischen 1995 und 1998 studierte an der Warschauer Chopin-Akademie und danach am Conservatoire National Supérieur de musique de Paris und an der Stuttgarter Musikhochschule. \nEr gewann zahlreiche Preise: seinen ersten internationalen Cello-Wettbewerb mit sechzehn Jahren; 1997 wurde er Zweiter im Warschauer Lutosławski-Wettbewerb\, und im Jahr 2000 gewann er hintereinander den 3. Preis des Antonio-Janigro-Wettbewerbs in Zagreb\, den 2. Preis sowie den Publikumspreis des Internationalen Wettbewerbs in Genf\, und schließlich den 1. Preis im Concorso Valentino Bucchi in Rom. \nEr ist in Europa und Nordamerika als Solist und Kammermusiker bei einer Reihe renommierter Musikfeste aufgetreten (u.a. Kuhmo Festival\, Oleg-Kagan-Musikfest\, Kammermusikfest Lockenhaus\, Festival de Deauville\, Ravinia Festival\, West Cork Music\, Beethoven Easter Festival Warsaw).  In den Jahren 2005-2012 war Alexander Gebert als Cellist des Altenberg Trios Wien tätig. \nEr gibt regelmäßig Meisterkurse in Finnland\, Deutschland und Polen. Er hat Kammermusik am Konservatorium Wien Privatuniversität\, Accademia di Musica di Pinerolo und an der Fondazione Accademia Internazionale di Imola “Incontri con il Maestro” unterrichtet\, sowie Meisterkurse an Musikhochschulen\, Universitäten und im Rahmen von Festivals in Finnland\, Polen\, Russland\, Holland\, Italien\, Albanien\, Dänemark\, Mexico\, Neuseeland\, Korea\, Hong Kong und den USA gegeben. Im Jahr 2010 wurde er als Professor an die Hochschule für Musik in Detmold berufen. Seit dem Jahr 2021 unterrichtet er auch an der Krzysztof-Penderecki-Akademie in Krakau. \nZuständig für die Masterclass: Prof Roberto Trainini\, Institut für Cello \n 
URL:https://cons.bz.it/de/event/erasmus-masterclass-mit-alexander-gebert/
LOCATION:Conservatorio Monteverdi Bolzano\, Piazza Domenicani 19\, Bolzano\, 39100\, Italia
ATTACH;FMTTYPE=image/jpeg:https://cons.bz.it/wp-content/uploads/2022/02/alexander-gebert-04-e1643813762558.jpg
END:VEVENT
END:VCALENDAR