BEGIN:VCALENDAR
VERSION:2.0
PRODID:-//Konservatorium C. Monteverdi - ECPv6.15.20//NONSGML v1.0//EN
CALSCALE:GREGORIAN
METHOD:PUBLISH
X-ORIGINAL-URL:https://cons.bz.it/de/
X-WR-CALDESC:Veranstaltungen für Konservatorium C. Monteverdi
REFRESH-INTERVAL;VALUE=DURATION:PT1H
X-Robots-Tag:noindex
X-PUBLISHED-TTL:PT1H
BEGIN:VTIMEZONE
TZID:Europe/Rome
BEGIN:DAYLIGHT
TZOFFSETFROM:+0100
TZOFFSETTO:+0200
TZNAME:CEST
DTSTART:20210328T010000
END:DAYLIGHT
BEGIN:STANDARD
TZOFFSETFROM:+0200
TZOFFSETTO:+0100
TZNAME:CET
DTSTART:20211031T010000
END:STANDARD
BEGIN:DAYLIGHT
TZOFFSETFROM:+0100
TZOFFSETTO:+0200
TZNAME:CEST
DTSTART:20220327T010000
END:DAYLIGHT
BEGIN:STANDARD
TZOFFSETFROM:+0200
TZOFFSETTO:+0100
TZNAME:CET
DTSTART:20221030T010000
END:STANDARD
BEGIN:DAYLIGHT
TZOFFSETFROM:+0100
TZOFFSETTO:+0200
TZNAME:CEST
DTSTART:20230326T010000
END:DAYLIGHT
BEGIN:STANDARD
TZOFFSETFROM:+0200
TZOFFSETTO:+0100
TZNAME:CET
DTSTART:20231029T010000
END:STANDARD
END:VTIMEZONE
BEGIN:VEVENT
DTSTART;TZID=Europe/Rome:20221001T080000
DTEND;TZID=Europe/Rome:20221010T170000
DTSTAMP:20260423T213706
CREATED:20220412T093837Z
LAST-MODIFIED:20220412T122334Z
UID:21375-1664611200-1665421200@cons.bz.it
SUMMARY:International Competition Carlo Maria Giulini 2022
DESCRIPTION:Solo woodwind instruments and Woodwind & Horn & piano Chamber Music Ensemble\n  \nInternationaler Wettbewerb für Solisten und Kammermusikensembles “Carlo Maria Giulini”.\nDas Konservatorium Claudio Monteverdi in Bozen fördert die zweite Ausgabe des Internationalen Wettbewerbs Carlo Maria Giulini\, Sektion Kammermusik\, der vom 1. bis 10. OKTOBER 2022 in Bozen in der Sala Arturo Benedetti Michelangeli des Konservatoriums selbst stattfinden wird. \nDer Wettbewerb legt besonderes Augenmerk auf den Aspekt der akademischen Ausbildung. Neben Geldpreisen erhalten die Gewinner Stipendien und die Möglichkeit\, an akademischen Kursen des Konservatoriums teilzunehmen. \nIn der Ausgabe 2022 richtet sich die Ausschreibung an Blasinstrumentalisten (nur Holzbläser)\, Solisten und Kammermusikgruppen für Holzbläser (mit möglicher Beteiligung von Hörnern und/oder Klavier) \nKATEGORIEN Ausgabe 2022\n\nSOLISTEN: Es ist ein Einzelwettbewerb für Flöte\, Oboe\, Klarinette und Fagott vorgesehen: Jeder Kommission sitzt der Direktor des Konservatoriums oder eine von ihm beauftragte Person vor. Sie setzt sich aus internationalen Experten im Bereich zusammen.\nKAMMERMUSIKGRUPPEN:es ist ein Einzelwettbewerb für Bläser (Holzbläser obligatorisch\, mit der Möglichkeit der Einbeziehung von Bläsern und/oder Klavier vom Trio bis zum Sextett) vorgesehen: Jeder Kommission sitzt der Direktor des Konservatoriums oder eine von ihm beauftragte Person vor. Sie setzt sich aus internationalen Experten im Bereich zusammen.\n\nENDE EINSCHREIBEFRIST: 30. JUNI   2022\n\nPRIEZE\n\n 	Kategorie Solisten: \nGewinner: 3.500 euro + 1 Solo-Konzert \nZweitklassifizierter: 1.500 euro.\nPreis “Stadt Bozen” für den besten Solisten: 1.500 € (von der Stadt Bozen zur Verfügung gestellt).\n\n\n 	Kategorie Kammermusikgruppen: \nGewinner: 5.000 euro (Gewinner des Stipendiums\, das dem Konservatorium Monteverdi von Carlo Maria Giulini gestiftet wurde) + 1 Konzert\nZweitplatzierte: 2.500 euro.\n\nBefreiung von den Immatrikulationsgebühren der Akademischen Kurse am Konservatorium „Claudia Monteverdi” im Akademischen Jahr 2022-2023 .\n\nDOWNLOAD OFFIZIELLE WETTBEWERBSBESTIMMUNGEN\nWettbewerb und Einschreibeformular
URL:https://cons.bz.it/de/event/international-competition-carlo-maria-giulini-2022/
ATTACH;FMTTYPE=image/jpeg:https://cons.bz.it/wp-content/uploads/2022/04/monteverdi-concorso-giulini-22-scaled.jpg
END:VEVENT
END:VCALENDAR