BEGIN:VCALENDAR
VERSION:2.0
PRODID:-//Konservatorium C. Monteverdi - ECPv6.15.20//NONSGML v1.0//EN
CALSCALE:GREGORIAN
METHOD:PUBLISH
X-WR-CALNAME:Konservatorium C. Monteverdi
X-ORIGINAL-URL:https://cons.bz.it/de/
X-WR-CALDESC:Veranstaltungen für Konservatorium C. Monteverdi
REFRESH-INTERVAL;VALUE=DURATION:PT1H
X-Robots-Tag:noindex
X-PUBLISHED-TTL:PT1H
BEGIN:VTIMEZONE
TZID:Europe/Rome
BEGIN:DAYLIGHT
TZOFFSETFROM:+0100
TZOFFSETTO:+0200
TZNAME:CEST
DTSTART:20230326T010000
END:DAYLIGHT
BEGIN:STANDARD
TZOFFSETFROM:+0200
TZOFFSETTO:+0100
TZNAME:CET
DTSTART:20231029T010000
END:STANDARD
BEGIN:DAYLIGHT
TZOFFSETFROM:+0100
TZOFFSETTO:+0200
TZNAME:CEST
DTSTART:20240331T010000
END:DAYLIGHT
BEGIN:STANDARD
TZOFFSETFROM:+0200
TZOFFSETTO:+0100
TZNAME:CET
DTSTART:20241027T010000
END:STANDARD
BEGIN:DAYLIGHT
TZOFFSETFROM:+0100
TZOFFSETTO:+0200
TZNAME:CEST
DTSTART:20250330T010000
END:DAYLIGHT
BEGIN:STANDARD
TZOFFSETFROM:+0200
TZOFFSETTO:+0100
TZNAME:CET
DTSTART:20251026T010000
END:STANDARD
END:VTIMEZONE
BEGIN:VEVENT
DTSTART;TZID=Europe/Rome:20241003T193000
DTEND;TZID=Europe/Rome:20241221T230000
DTSTAMP:20260423T132440
CREATED:20241007T092003Z
LAST-MODIFIED:20250208T110914Z
UID:31316-1727983800-1734822000@cons.bz.it
SUMMARY:Monteverdi in concert 10.2024 - 12.2024
DESCRIPTION:Programm Okt. – Dez. 2024 \n\n\n\n2024.10 Monteverdi in concert – brochure
URL:https://cons.bz.it/de/event/monteverdi-in-concert/
LOCATION:Chiesa dei Domenicani\, Piazza Domenicani\, Bolzano\, BZ\, 39100\, Italy
ATTACH;FMTTYPE=image/jpeg:https://cons.bz.it/wp-content/uploads/2024/10/2024.10-monteverdi-in-concert-poster-scaled.jpg
END:VEVENT
END:VCALENDAR