BEGIN:VCALENDAR
VERSION:2.0
PRODID:-//Konservatorium C. Monteverdi - ECPv6.15.20//NONSGML v1.0//EN
CALSCALE:GREGORIAN
METHOD:PUBLISH
X-WR-CALNAME:Konservatorium C. Monteverdi
X-ORIGINAL-URL:https://cons.bz.it/de/
X-WR-CALDESC:Veranstaltungen für Konservatorium C. Monteverdi
REFRESH-INTERVAL;VALUE=DURATION:PT1H
X-Robots-Tag:noindex
X-PUBLISHED-TTL:PT1H
BEGIN:VTIMEZONE
TZID:Europe/Rome
BEGIN:DAYLIGHT
TZOFFSETFROM:+0100
TZOFFSETTO:+0200
TZNAME:CEST
DTSTART:20240331T010000
END:DAYLIGHT
BEGIN:STANDARD
TZOFFSETFROM:+0200
TZOFFSETTO:+0100
TZNAME:CET
DTSTART:20241027T010000
END:STANDARD
BEGIN:DAYLIGHT
TZOFFSETFROM:+0100
TZOFFSETTO:+0200
TZNAME:CEST
DTSTART:20250330T010000
END:DAYLIGHT
BEGIN:STANDARD
TZOFFSETFROM:+0200
TZOFFSETTO:+0100
TZNAME:CET
DTSTART:20251026T010000
END:STANDARD
BEGIN:DAYLIGHT
TZOFFSETFROM:+0100
TZOFFSETTO:+0200
TZNAME:CEST
DTSTART:20260329T010000
END:DAYLIGHT
BEGIN:STANDARD
TZOFFSETFROM:+0200
TZOFFSETTO:+0100
TZNAME:CET
DTSTART:20261025T010000
END:STANDARD
END:VTIMEZONE
BEGIN:VEVENT
DTSTART;VALUE=DATE:20250101
DTEND;VALUE=DATE:20250801
DTSTAMP:20260423T193620
CREATED:20250208T112317Z
LAST-MODIFIED:20250208T112511Z
UID:32465-1735689600-1754006399@cons.bz.it
SUMMARY:Monteverdi in concert 01.2025 - 07.2025
DESCRIPTION:Program Jan. – Jul. 2025 \n2025.01 Monteverdi in concert – brochure
URL:https://cons.bz.it/de/event/monteverdi-in-concert-01-2025-07-2025/
LOCATION:Conservatorio C. Monteverdi\, Sala Michelangeli\, Piazza Domenicani 19\, Bolzano\, 39100\, Italia
ATTACH;FMTTYPE=image/jpeg:https://cons.bz.it/wp-content/uploads/2025/02/monteverdi-in-concert-01-2025.jpg
END:VEVENT
BEGIN:VEVENT
DTSTART;VALUE=DATE:20250211
DTEND;VALUE=DATE:20250216
DTSTAMP:20260423T193620
CREATED:20250208T121310Z
LAST-MODIFIED:20250208T121751Z
UID:32476-1739232000-1739663999@cons.bz.it
SUMMARY:Das Spotlight Conducting – Bozner Dirigentenforum 2025
DESCRIPTION:Das Spotlight Conducting – Bozner Dirigentenforum 2025 vom 11. – 15. Feb. 2025 steht vor der Tür und bietet eine Fülle von inspirierenden Programmpunkten: \n📌 Masterclasses mit internationalen Top-Dirigent*innen \n📌 Workshops zu Probenmethodik und Konzertdramaturgie \n📌 Noten und Plattform der Next Composer Generation \n📌 Impulsvorträge zu Themen wie Orchesterentwicklung\, Klanggestaltung\, Orchesterpsychologie und mehr \n📌 Networking-Gelegenheiten bei unseren täglichen Get-togethers \n💡 Seien Sie dabei verpassen Sie keine Highlights und holen sich Motivation und Input für die zukünftige Arbeit. \n  \n📅 Zeitplan mit Detailinfos ist jetzt verfügbar! \nhttps://padlet.com/thomas560/zeitplan-spotlight-conducting-bozner-dirigentenforum-2025-ek4bq9ptr0msjw0l \n✍️ Melden Sie sich jetzt an – noch Plätze frei! \nhttps://www.survio.com/survey/d/G4P7I5V3D6E7C2S5U \nℹ️ Weitere Infos finden Sie auf unserer Website. \nhttps://ludescher.com/news-auflistung/spotlight-conducting-bozner-dirigentenforum-2025
URL:https://cons.bz.it/de/event/das-spotlight-conducting-bozner-dirigentenforum-2025/
LOCATION:Conservatorio Monteverdi Bolzano\, Piazza Domenicani 19\, Bolzano\, 39100\, Italia
ATTACH;FMTTYPE=image/jpeg:https://cons.bz.it/wp-content/uploads/2025/02/spotlight-conducting-bolzano-conductors-forum-2025.jpg
END:VEVENT
END:VCALENDAR