BEGIN:VCALENDAR
VERSION:2.0
PRODID:-//Konservatorium C. Monteverdi - ECPv6.15.20//NONSGML v1.0//EN
CALSCALE:GREGORIAN
METHOD:PUBLISH
X-WR-CALNAME:Konservatorium C. Monteverdi
X-ORIGINAL-URL:https://cons.bz.it/de/
X-WR-CALDESC:Veranstaltungen für Konservatorium C. Monteverdi
REFRESH-INTERVAL;VALUE=DURATION:PT1H
X-Robots-Tag:noindex
X-PUBLISHED-TTL:PT1H
BEGIN:VTIMEZONE
TZID:Europe/Rome
BEGIN:DAYLIGHT
TZOFFSETFROM:+0100
TZOFFSETTO:+0200
TZNAME:CEST
DTSTART:20220327T010000
END:DAYLIGHT
BEGIN:STANDARD
TZOFFSETFROM:+0200
TZOFFSETTO:+0100
TZNAME:CET
DTSTART:20221030T010000
END:STANDARD
BEGIN:DAYLIGHT
TZOFFSETFROM:+0100
TZOFFSETTO:+0200
TZNAME:CEST
DTSTART:20230326T010000
END:DAYLIGHT
BEGIN:STANDARD
TZOFFSETFROM:+0200
TZOFFSETTO:+0100
TZNAME:CET
DTSTART:20231029T010000
END:STANDARD
BEGIN:DAYLIGHT
TZOFFSETFROM:+0100
TZOFFSETTO:+0200
TZNAME:CEST
DTSTART:20240331T010000
END:DAYLIGHT
BEGIN:STANDARD
TZOFFSETFROM:+0200
TZOFFSETTO:+0100
TZNAME:CET
DTSTART:20241027T010000
END:STANDARD
END:VTIMEZONE
BEGIN:VEVENT
DTSTART;VALUE=DATE:20230218
DTEND;VALUE=DATE:20230625
DTSTAMP:20260421T203930
CREATED:20230228T154531Z
LAST-MODIFIED:20230228T154925Z
UID:24808-1676678400-1687651199@cons.bz.it
SUMMARY:MONTEVERDI IN CONCERT 18.02. – 24.06.2023 · h 20:00
DESCRIPTION:
URL:https://cons.bz.it/de/event/monteverdi-in-concert-18-02-24-06-2023-%c2%b7-h-2000/
LOCATION:Conservatorio Monteverdi Bolzano\, Piazza Domenicani 19\, Bolzano\, 39100\, Italia
ATTACH;FMTTYPE=image/jpeg:https://cons.bz.it/wp-content/uploads/2022/02/monteverdi-in-concert-2023-small.jpg
END:VEVENT
BEGIN:VEVENT
DTSTART;VALUE=DATE:20230414
DTEND;VALUE=DATE:20231030
DTSTAMP:20260421T203930
CREATED:20230405T082049Z
LAST-MODIFIED:20230405T083455Z
UID:25263-1681430400-1698623999@cons.bz.it
SUMMARY:Klavierabende im Michelangeli Saal\, 14.04. - 29.10.2023\, Konservatorium “C. Monteverdi”
DESCRIPTION:Il Pianoforte al Monteverdi
URL:https://cons.bz.it/de/event/klavierabende-im-michelangeli-saal-14-04-29-10-2023-konservatorium-c-monteverdi/
LOCATION:Conservatorio Monteverdi Bolzano\, Piazza Domenicani 19\, Bolzano\, 39100\, Italia
ATTACH;FMTTYPE=image/jpeg:https://cons.bz.it/wp-content/uploads/2023/04/il-pianoforte-al-monteverdi-small.jpg
END:VEVENT
BEGIN:VEVENT
DTSTART;VALUE=DATE:20230605
DTEND;VALUE=DATE:20230611
DTSTAMP:20260421T203930
CREATED:20230510T135330Z
LAST-MODIFIED:20230606T124306Z
UID:25658-1685923200-1686441599@cons.bz.it
SUMMARY:Georg Friedrich Haas "Denken in Musik" - Internationale Tagung und Meisterklasse für Komposition
DESCRIPTION:Vollständiges Veranstaltungsprogramm\nMonteverdi_convegno Haas_programma \nFolgen Sie hier dem Live-Stream und finden Sie das Konzert-Programm \nhttps://linktr.ee/denken.in.musik \n \nVom 5.-10. Juni findet im Kolpinghaus Bozen eine von der Bozner Musikhochschule veranstaltete internationale Tagung über und mit dem österreichisch-amerikanischen Komponisten Georg Friedrich Haas (Graz 1953) statt. Haas gilt als der bedeutendste lebende Komponist in der Kunstmusiksparte und wird Meisterklassen mit knapp 50 KompositionsstudentInnen aus dem ganzen deutschen und italienischen Sprachraum halten. Die Tagung Georg Friedrich Haas – denken in Musik / pensare in musica umfasst ebenfalls eine Referatsreihe über Haas´ Leben und Schaffen und zwei Abendkonzerte. Der Eintritt zu sämtlichen Veranstaltungen ist frei. Diese Tagung dient darüber hinaus als Auftakt zur Uraufführung von Haas´ monumentalem Stück 11000 Saiten für 50 umgestimmte Pianinos und 25 Instrumente\, die am 1. August im Rahmen des Busoni-Festivals in der Bozner Messe über die Bühne gehen wird. \nLeitung: Prof. Pierluca Lanzilotta \n\nGeorg Friedrich Haas\nGeorg Friedrich Haas\nGeorg Friedrich Haas ist 1953 in Graz geboren und unterrichtet seit 2013 Komposition an der Columbia University in New York. Er ist der wichtigste lebende Komponist überhaupt laut einer 2017 von der italienischen Fachzeitschrift Classic Voice gehaltenen Umfrage\, die ebenfalls sein Stück in vain (2000) als das bedeutendste Werk in der Kunstmusiksparte seit 2000 gekürt hat. Er gilt als Hauptvertreter der Spektralmusik\, d. h. der Stilrichtung\, in der u. a. mit Mikrointervallen und Obertonreihen komponiert wird. So hat er mit dem Intellektualismus und der Klangferne mancher Strömungen der Moderne gebrochen. Er meint\, Musik vermöge „Emotionen und seelische Zustände von Menschen so zu formulieren\, dass sie auch von anderen Menschen als die ihren angenommen werden können“.
URL:https://cons.bz.it/de/event/georg-friedrich-haas-denken-in-musik-internationale-tagung-und-meisterklasse-fuer-komposition/
LOCATION:Kolpinghaus\, Largo Adolph Kolping 3\, Bolzano\, BZ\, 39100\, Italy
ATTACH;FMTTYPE=image/jpeg:https://cons.bz.it/wp-content/uploads/2023/05/monteverdi-convegnohaas--70x100-small.jpg
END:VEVENT
BEGIN:VEVENT
DTSTART;TZID=Europe/Rome:20230606T200000
DTEND;TZID=Europe/Rome:20230606T213000
DTSTAMP:20260421T203930
CREATED:20230523T145245Z
LAST-MODIFIED:20230605T072416Z
UID:25755-1686081600-1686087000@cons.bz.it
SUMMARY:Gemeinsames Konzert für Sax und Live-Elektronik\, audiovisuelle Medien und elektroakustische Surround-Musik im Format 8.2.4
DESCRIPTION:Elettro(be)@t Monteverdi Conservatory\nFolgen Sie hier dem Live-Stream und finden Sie das Konzert-Programm \nhttps://linktr.ee/mediastaff.monteverdi \n \nEin ganz besonderes\, anderes\, einzigartiges Konzert! Es werden verschiedene ästhetische Positionen präsentiert\, welche sich im dynamischen Spannungsfeld der elektronischen Musik vereinen: von einer multimedialen kollektiven Performance für Saxophon und Live-Elektronik\, an der der Saxophonist und Kollege Pepito Ros und das Monteverdi Sax Quartet teilnehmen\, hin zu innovativen audiovisuellen Produktionen und elektroakustischen Mehrkanal-Kompositionen. \nDas Konzert wendet sich dezidiert an ein diverses Publikum und steht daher allen offen\, auch jenen\, die sich weniger für elektroakustische Musik begeistern\, denn experimentelle Musik vermittelt immer auch Emotionen – welches zweifelsohne das Ziel der Musik im Besonderen ist. \nFür all jene\, die nicht persönlich anwesend sein können\, wird das Konzert live auf dem YouTube-Kanal des Konservatoriums gestreamt\, und zwar in binauraler Wiedergabe für ein besonders immersives Erlebnis. \nWir freuen uns darauf\, Sie beim Konzert begrüßen zu dürfen! \nProf. Gustavo Delgado
URL:https://cons.bz.it/de/event/gemeinsames-konzert-fuer-sax-und-live-elektronik-audiovisuelle-medien-und-elektroakustische-surround-musik-im-format-8-2-4/
LOCATION:Conservatorio Monteverdi Bolzano\, Piazza Domenicani 19\, Bolzano\, 39100\, Italia
ATTACH;FMTTYPE=image/jpeg:https://cons.bz.it/wp-content/uploads/2023/05/elettrobeat-poster-reduced-1-scaled.jpg
END:VEVENT
BEGIN:VEVENT
DTSTART;VALUE=DATE:20230612
DTEND;VALUE=DATE:20230616
DTSTAMP:20260421T203930
CREATED:20230508T134134Z
LAST-MODIFIED:20230508T135927Z
UID:25614-1686528000-1686873599@cons.bz.it
SUMMARY:'Orgelmusik in Deutschland von 1700 bis 1900' - Masterclass für Orgel mit Prof. Johannes Geffert
DESCRIPTION:Johannes Geffert \nJohannes Geffert wuchs in den Traditionen der Kirchenmusik auf. Nach Studien in Köln (Michael Schneider) und England (bei Nicolas Kynaston) wurde er 1974 Organist der Annakirche und Leiter des Bachvereins in Aachen (Gründung der Aachener Bachtage). 1980-1997 führte er das musikalische Erbe seines Vaters als Kirchenmusikdirektor an der Bonner Kreuzkirche fort. Langjährig wirkte er als Dozent an der Robert-Schumann-Hochschule in Düsseldorf und von 1997 bis 2015 als Professor und Leiter der Abteilung evang. Kirchenmusik an der Hochschule für Musik und Tanz in Köln. Konzerte führen ihn an bedeutende Orgeln vieler Länder\, seine CD-Aufnahmen werden von der Kritik hochgelobt. Jurortätigkeiten bei internationalen Orgelwettbewerben\, Editionen\ninsbesondere von romantischer Orgelmusik\, aber auch das Spiel auf historischen Tasteninstrumenten unterstreichen seine künstlerische Vielseitigkeit. Geffert ist hon. Vice-President der englischen Organistenvereinigung AIO und Vorstandsmitglied des Beethoven-Hauses Bonn. \nZuständig für die Masterclass: Prof. Adriano Falcioni
URL:https://cons.bz.it/de/event/orgelmusik-in-deutschland-von-1700-bis-1900-masterclass-fer-orgel-mit-prof-johannes-geffert/
LOCATION:Conservatorio Monteverdi Bolzano\, Piazza Domenicani 19\, Bolzano\, 39100\, Italia
ATTACH;FMTTYPE=image/jpeg:https://cons.bz.it/wp-content/uploads/2023/05/geffert05.jpg
END:VEVENT
BEGIN:VEVENT
DTSTART;TZID=Europe/Rome:20230627T080000
DTEND;TZID=Europe/Rome:20230930T170000
DTSTAMP:20260421T203930
CREATED:20230627T133125Z
LAST-MODIFIED:20230829T093321Z
UID:26391-1687852800-1696093200@cons.bz.it
SUMMARY:Summer Academy 2023
DESCRIPTION:Summer Academy al Conservatorio Monteverdi\nDie Sommerakademie besteht aus einer Reihe von Intensivkursen in Instrument und/oder Gesang. Unsere akademischen Lehrkräfte unterrichten interessierte Musikstudierende mit dem Ziel\, deren bereits erworbene Kenntnisse zu festigen und darüber hinaus neue Techniken in einem akademischen Kontext zu erproben. \nFür jeden Kurs sind jeweils nur 5 Studierenden zugelassen\, sodass eine individuelle und gezielte Förderung des einzelnen Studierenden möglich ist.\nAlle Kurse finden am Konservatorium Monteverdi in Bozen\, Domenikanerplatz 19\, 39100 Bozen\, statt. \nZielgruppe:\nDie Summer Academy richtet sich an fortgeschrittene Studierende\, die am Konservatorium oder an einer Universität oder ähnlichen Einrichtungen eingeschrieben sind\, und/oder an Musiker\, die sich auf Vorspiele/Wettbewerbe vorbereiten. Im Allgemeinen gibt es keine Altersgrenze für die aktive Teilnahme. \nDas Bildungsprogramm der Summer Academy\nDas Bildungsprogramm der Summer Academy findet im Zeitraum von Juli bis September 2023 statt und umfasst die folgenden 14 Intensivkurse: \n  \n\n\n\n\nDOZENTIN \n\n\nINSTRUMENT \n\n\nDATEN \n\n\n\n\n\n\n\nBISCEGLIA Roberto \n\n\nViolin \n\n\n26 Juni \n20\, 27 September  \n\n\n\n\nBRUSTIA Giorgia\n\nPiano \n\n21\, 22\, 23\nJuli\n\n\n\nDE FELICE Arnaldo\n\nOboe \n\n3\, 4 Juli\n\n\n\nROMANENGHI Gianmaria\nPercussion\nvon 4 bis 7 \nJuli\n\n\n\n\n\nSARTORI Elena\n\nVocal ensemble music \nMadrigal and Theater \n\n\n30\, 31 \nAugust\n1\, 2 \nSeptember \n\n\n\n\nGRANTE Carlo\nPiano\nVon 10 bis 14 Juli\nVon 17 bis 21 Juli\nVon 24 bis 28 Juli\n31 Juli – 4 August\nVon 7 bis 11 August\n\n\n\nBERNARDO Paolo\n\nViolin course;\nhistory and technology\nof the instrument; \ntreatise\, methods\,\nand violin teaching; chamber music  \n\n\nVon 17 bis 29 Juli\nVon 1 Juli \nbis 1 September \n\n\n\n\nTREYER Marco\nFrench horn\n\n5\, 8 Juli\n17\, 22 Juli \n\n\n\n\nCONTUCCI Eleonora\nVoice\n17\, 18\, 19\, 20 Juli\n\n\n\nBRAIA Sante\nDouble bass\nVon 17 bis 21 Juli\n\n\n\nGOTTARDI Roberta\nClarinet\nvonl 4 bis 7 Juli \nund 10\, 11 \n19\, 20 Juli\n\n\n\nALBERTI Nicoletta\nHarp\nvon 3 bis 15 Juli\n\n\n\nZORDANAZZO Paolo\nViolin\n\n21\, 22 Juni \n6\, 7\, 8 September \n\n\n\n\nVISMARA Dorotea\nViola\n3\, 4\, 5 e 6 Juli\n\n\n\n\nLANZILOTTA Pierluca \n\nPostmodernism\, New Music and Spectralism\nin the\nlast 50 years of European\nmusic history\n\n5\, 11\, 19\, 26 Juli\n2\, 23\, 30 August  \n\n\n\n\n\nPULINI Bruna \n\nPiano\nTermine nach\nAbsprache\nmit Professor Pulini Bruna\n\n\n\n\nMARIANI Luigi \n\nPiano / chamber music\nVon 24 bis 31\nJuli und\nVon 23 bis 30\nAugust\n\n\n\n\n\n\n  \nANGABEN ZU DEN PROFESSOREN\nKosten\nEinschreibungsgebühr (pro Person): € 120\,- mittels PagoPA\, wobei der Zahlungsbeleg bei der Einschreibung im Sekretariat abgegeben werden muss. \nDie Gebühr umfasst die Versicherung für den gesamten Zeitraum der Kursteilnahme. \nEinschreibung und Information\nDie Einschreibung muss rechtzeitig vor Kursbeginn erfolgen. \nDie Anzahl der Teilnehmer pro Kurs ist auf 5 Plätze begrenzt\, und die Platzreservierung erfolgt nach Reihenfolge der Anmeldungen\, bis alle Plätze besetzt sind. \nHochschule für Musik Konservatorium „Claudio Monteverdi“ \nTel: +39 0471 978 764\nEmail: info@cons.bz.it\nStudentensekretariat: student.office@cons.bz.it\nwww.cons.bz.it/it
URL:https://cons.bz.it/de/event/summer-academy-2023/
LOCATION:Conservatorio Monteverdi Bolzano\, Piazza Domenicani 19\, Bolzano\, 39100\, Italia
ATTACH;FMTTYPE=image/png:https://cons.bz.it/wp-content/uploads/2023/06/f.png
END:VEVENT
END:VCALENDAR